2048.0
0.0
0.0
-2048.0
21024.00
7818256.00
