16.0
0.0
0.0
-16.0
404008.00
7337992.00
