16.0
0.0
0.0
-16.0
596008.00
7145992.00
