16.0
0.0
0.0
-16.0
692008.00
7049992.00
