16.0
0.0
0.0
-16.0
596008.00
6857992.00
