16.0
0.0
0.0
-16.0
212008.00
6761992.00
