8.0
0.0
0.0
-8.0
500004.00
7817996.00
