8.0
0.0
0.0
-8.0
404004.00
7241996.00
