8.0
0.0
0.0
-8.0
356004.00
7241996.00
