8.0
0.0
0.0
-8.0
548004.00
7145996.00
