8.0
0.0
0.0
-8.0
596004.00
7001996.00
