8.0
0.0
0.0
-8.0
212004.00
7001996.00
