8.0
0.0
0.0
-8.0
116004.00
7049996.00
