8.0
0.0
0.0
-8.0
164004.00
7001996.00
