8.0
0.0
0.0
-8.0
452004.00
6905996.00
