8.0
0.0
0.0
-8.0
356004.00
6953996.00
