8.0
0.0
0.0
-8.0
596004.00
6809996.00
