8.0
0.0
0.0
-8.0
404004.00
6857996.00
