8.0
0.0
0.0
-8.0
260004.00
6761996.00
