8.0
0.0
0.0
-8.0
212004.00
6761996.00
