8.0
0.0
0.0
-8.0
308004.00
6665996.00
