32.0
0.0
0.0
-32.0
500016.00
7721984.00
