32.0
0.0
0.0
-32.0
500016.00
7145984.00
