32.0
0.0
0.0
-32.0
308016.00
7145984.00
