32.0
0.0
0.0
-32.0
308016.00
6761984.00
