64.0
0.0
0.0
-64.0
116032.00
7625968.00
