64.0
0.0
0.0
-64.0
500032.00
7241968.00
