64.0
0.0
0.0
-64.0
308032.00
7049968.00
