64.0
0.0
0.0
-64.0
500032.00
6953968.00
