64.0
0.0
0.0
-64.0
500032.00
6857968.00
