0.5
0.0
0.0
-0.5
584000.25
7463999.75
