0.5
0.0
0.0
-0.5
470000.25
7481999.75
