0.5
0.0
0.0
-0.5
602000.25
7349999.75
