0.5
0.0
0.0
-0.5
518000.25
7427999.75
