0.5
0.0
0.0
-0.5
500000.25
7361999.75
