0.5
0.0
0.0
-0.5
422000.25
7415999.75
