0.5
0.0
0.0
-0.5
398000.25
7403999.75
