0.5
0.0
0.0
-0.5
332000.25
7205999.75
