0.5
0.0
0.0
-0.5
380000.25
7163999.75
