0.5
0.0
0.0
-0.5
620000.25
7121999.75
