0.5
0.0
0.0
-0.5
656000.25
7097999.75
