0.5
0.0
0.0
-0.5
590000.25
7061999.75
