0.5
0.0
0.0
-0.5
410000.25
7133999.75
