0.5
0.0
0.0
-0.5
440000.25
7109999.75
