0.5
0.0
0.0
-0.5
374000.25
7067999.75
