0.5
0.0
0.0
-0.5
728000.25
6971999.75
