0.5
0.0
0.0
-0.5
638000.25
7049999.75
