0.5
0.0
0.0
-0.5
506000.25
6989999.75
