0.5
0.0
0.0
-0.5
356000.25
7031999.75
