0.5
0.0
0.0
-0.5
344000.25
7043999.75
